BEGIN:VCALENDAR
VERSION:2.0
PRODID:dornbirnplus.eu
X-PUBLISHED-TTL:P1W
BEGIN:VEVENT
UID:69ebbd2b6202a
DTSTART:20200704T160000Z
SEQUENCE:0
TRANSP:OPAQUE
DTEND:20200704T173000Z
SUMMARY:GEBURTSKULTUR vom gebären und geboren werden
CLASS:PUBLIC
DTSTAMP:20260424T205747Z
END:VEVENT
END:VCALENDAR