BEGIN:VCALENDAR
VERSION:2.0
PRODID:dornbirnplus.eu
X-PUBLISHED-TTL:P1W
BEGIN:VEVENT
UID:69ebbc659d6f4
DTSTART:20200807T080446Z
SEQUENCE:0
TRANSP:OPAQUE
DTEND:20200808T080446Z
SUMMARY:Bezau Beatz 2020 limited
CLASS:PUBLIC
DTSTAMP:20260424T205429Z
END:VEVENT
END:VCALENDAR