BEGIN:VCALENDAR
VERSION:2.0
PRODID:dornbirnplus.eu
X-PUBLISHED-TTL:P1W
BEGIN:VEVENT
UID:69ebbe0a807a5
DTSTART:20200808T090000Z
SEQUENCE:0
TRANSP:OPAQUE
DTEND:20200808T103000Z
SUMMARY:Maya Homburger & Barry Guy
CLASS:PUBLIC
DTSTAMP:20260424T210130Z
END:VEVENT
END:VCALENDAR