BEGIN:VCALENDAR
VERSION:2.0
PRODID:dornbirnplus.eu
X-PUBLISHED-TTL:P1W
BEGIN:VEVENT
UID:69ebbd7e7c168
DTSTART:20200706T180000Z
SEQUENCE:0
TRANSP:OPAQUE
DTEND:20200706T200000Z
SUMMARY:LITERARISCHER SALON: „DIE INFANTIN TRÄGT DEN SCHEITEL LINKS“ V
 ON HELENA ADLER
CLASS:PUBLIC
DTSTAMP:20260424T205910Z
END:VEVENT
END:VCALENDAR