BEGIN:VCALENDAR
VERSION:2.0
PRODID:dornbirnplus.eu
X-PUBLISHED-TTL:P1W
BEGIN:VEVENT
UID:69ebbd3c111a1
DTSTART:20200710T180000Z
SEQUENCE:0
TRANSP:OPAQUE
DTEND:20200710T193000Z
SUMMARY:KOSMODROM: INFANTIZID\, FEMIZID\, SUIZID von Amos Postner\, Felix K
 alaivanan
CLASS:PUBLIC
DTSTAMP:20260424T205804Z
END:VEVENT
END:VCALENDAR