BEGIN:VCALENDAR
VERSION:2.0
PRODID:dornbirnplus.eu
X-PUBLISHED-TTL:P1W
BEGIN:VEVENT
UID:69ebbc5f57de9
DTSTART:20200625T180000Z
SEQUENCE:0
TRANSP:OPAQUE
DTEND:20200625T183000Z
SUMMARY:SCHAUSPIEL OHNE GRUND: eine theatrale Intervention
CLASS:PUBLIC
DTSTAMP:20260424T205423Z
END:VEVENT
END:VCALENDAR