BEGIN:VCALENDAR
VERSION:2.0
PRODID:dornbirnplus.eu
X-PUBLISHED-TTL:P1W
BEGIN:VEVENT
UID:69ebbd8943e74
DTSTART:20200822T130000Z
SEQUENCE:0
TRANSP:OPAQUE
DTEND:20200822T143000Z
SUMMARY:Puppentheater mit Stefan Libardi
CLASS:PUBLIC
DTSTAMP:20260424T205921Z
END:VEVENT
END:VCALENDAR