BEGIN:VCALENDAR
VERSION:2.0
PRODID:dornbirnplus.eu
X-PUBLISHED-TTL:P1W
BEGIN:VEVENT
UID:69ebbc7c4df20
DTSTART:20200718T113000Z
SEQUENCE:0
TRANSP:OPAQUE
DTEND:20200718T130000Z
SUMMARY:Natur schreiben
CLASS:PUBLIC
DTSTAMP:20260424T205452Z
END:VEVENT
END:VCALENDAR