BEGIN:VCALENDAR
VERSION:2.0
PRODID:dornbirnplus.eu
X-PUBLISHED-TTL:P1W
BEGIN:VEVENT
UID:69ebbcc382bb6
DTSTART:20200724T140000Z
SEQUENCE:0
TRANSP:OPAQUE
DTEND:20200724T153000Z
SUMMARY:„Ghörig kreativ“: Text-Spiel!
CLASS:PUBLIC
DTSTAMP:20260424T205603Z
END:VEVENT
END:VCALENDAR