BEGIN:VCALENDAR
VERSION:2.0
PRODID:dornbirnplus.eu
X-PUBLISHED-TTL:P1W
BEGIN:VEVENT
UID:69ebbd24d156a
DTSTART:20200830T160000Z
SEQUENCE:0
TRANSP:OPAQUE
DTEND:20200830T180000Z
SUMMARY:Theaterspazierung
CLASS:PUBLIC
DTSTAMP:20260424T205740Z
END:VEVENT
END:VCALENDAR