BEGIN:VCALENDAR
VERSION:2.0
PRODID:dornbirnplus.eu
X-PUBLISHED-TTL:P1W
BEGIN:VEVENT
UID:69ebbbf02c377
DTSTART:20200808T163000Z
SEQUENCE:0
TRANSP:OPAQUE
DTEND:20200808T173000Z
SUMMARY:Musikalischer Stadtspaziergang: Tetrapol Posaunenquartett
CLASS:PUBLIC
DTSTAMP:20260424T205232Z
END:VEVENT
END:VCALENDAR