BEGIN:VCALENDAR
VERSION:2.0
PRODID:dornbirnplus.eu
X-PUBLISHED-TTL:P1W
BEGIN:VEVENT
UID:69ebbd7e9bbfd
DTSTART:20200906T080000Z
SEQUENCE:0
TRANSP:OPAQUE
DTEND:20200906T090000Z
SUMMARY:European Day of Jewish Culture – Jewish Journeys
CLASS:PUBLIC
DTSTAMP:20260424T205910Z
END:VEVENT
END:VCALENDAR