BEGIN:VCALENDAR
VERSION:2.0
PRODID:dornbirnplus.eu
X-PUBLISHED-TTL:P1W
BEGIN:VEVENT
UID:69ebbcd8a8424
DTSTART:20200911T190000Z
SEQUENCE:0
TRANSP:OPAQUE
DTEND:20200911T203000Z
SUMMARY:Prinz Grizzley and his Beargaroos
CLASS:PUBLIC
DTSTAMP:20260424T205624Z
END:VEVENT
END:VCALENDAR