BEGIN:VCALENDAR
VERSION:2.0
PRODID:dornbirnplus.eu
X-PUBLISHED-TTL:P1W
BEGIN:VEVENT
UID:69ebbe0b08d29
DTSTART:20200901T173000Z
SEQUENCE:0
TRANSP:OPAQUE
DTEND:20200901T190000Z
SUMMARY:CariCari | KUB Sommer 
CLASS:PUBLIC
DTSTAMP:20260424T210131Z
END:VEVENT
END:VCALENDAR