BEGIN:VCALENDAR
VERSION:2.0
PRODID:dornbirnplus.eu
X-PUBLISHED-TTL:P1W
BEGIN:VEVENT
UID:69ebbda2ca184
DTSTART:20200910T181500Z
SEQUENCE:0
TRANSP:OPAQUE
DTEND:20200910T200000Z
SUMMARY:Lisz Hirn: Wer braucht Superhelden – Was wirklich nötig ist\, um
  unsere Welt zu retten
CLASS:PUBLIC
DTSTAMP:20260424T205946Z
END:VEVENT
END:VCALENDAR