BEGIN:VCALENDAR
VERSION:2.0
PRODID:dornbirnplus.eu
X-PUBLISHED-TTL:P1W
BEGIN:VEVENT
UID:69ebbd2bdcb6b
DTSTART:20200927T093000Z
SEQUENCE:0
TRANSP:OPAQUE
DTEND:20200927T110000Z
SUMMARY:Spielraum Vaduz
CLASS:PUBLIC
DTSTAMP:20260424T205747Z
END:VEVENT
END:VCALENDAR