BEGIN:VCALENDAR
VERSION:2.0
PRODID:dornbirnplus.eu
X-PUBLISHED-TTL:P1W
BEGIN:VEVENT
UID:69ebbbf0a12a4
DTSTART:20200910T173000Z
SEQUENCE:0
TRANSP:OPAQUE
DTEND:20200910T190000Z
SUMMARY:Quarta  4 Länder Jugendphilharmonie: 5 Jahre Quarta
CLASS:PUBLIC
DTSTAMP:20260424T205232Z
END:VEVENT
END:VCALENDAR