BEGIN:VCALENDAR
VERSION:2.0
PRODID:dornbirnplus.eu
X-PUBLISHED-TTL:P1W
BEGIN:VEVENT
UID:69ebbd6b05f2e
DTSTART:20200925T180000Z
SEQUENCE:0
TRANSP:OPAQUE
DTEND:20200925T193000Z
SUMMARY:DAS SPIEL - Are you part of The Game?
CLASS:PUBLIC
DTSTAMP:20260424T205851Z
END:VEVENT
END:VCALENDAR