BEGIN:VCALENDAR
VERSION:2.0
PRODID:dornbirnplus.eu
X-PUBLISHED-TTL:P1W
BEGIN:VEVENT
UID:69ebbd6a6bf91
DTSTART:20200904T160000Z
SEQUENCE:0
TRANSP:OPAQUE
DTEND:20200904T173000Z
SUMMARY:GASTSPIEL AKTIONSTHEATER ENSEMBLE „BÜRGERLICHES TRAUERSPIEL – 
 WANN BEGINNT DAS LEBEN“
CLASS:PUBLIC
DTSTAMP:20260424T205850Z
END:VEVENT
END:VCALENDAR