BEGIN:VCALENDAR
VERSION:2.0
PRODID:dornbirnplus.eu
X-PUBLISHED-TTL:P1W
BEGIN:VEVENT
UID:69ebbba8c0c66
DTSTART:20200905T160000Z
SEQUENCE:0
TRANSP:OPAQUE
DTEND:20200905T173000Z
SUMMARY:GASTSPIEL AKTIONSTHEATER ENSEMBLE „BÜRGERLICHES TRAUERSPIEL – 
 WANN BEGINNT DAS LEBEN“
CLASS:PUBLIC
DTSTAMP:20260424T205120Z
END:VEVENT
END:VCALENDAR