BEGIN:VCALENDAR
VERSION:2.0
PRODID:dornbirnplus.eu
X-PUBLISHED-TTL:P1W
BEGIN:VEVENT
UID:69ebbcb95e98e
DTSTART:20200920T080000Z
SEQUENCE:0
TRANSP:OPAQUE
DTEND:20200920T100000Z
SUMMARY:Ausstellung: Hämmerle-Kolonie
CLASS:PUBLIC
DTSTAMP:20260424T205553Z
END:VEVENT
END:VCALENDAR