BEGIN:VCALENDAR
VERSION:2.0
PRODID:dornbirnplus.eu
X-PUBLISHED-TTL:P1W
BEGIN:VEVENT
UID:69ebbd2508303
DTSTART:20201017T154700Z
SEQUENCE:0
TRANSP:OPAQUE
DTEND:20201017T162200Z
SUMMARY:happy mess
CLASS:PUBLIC
DTSTAMP:20260424T205741Z
END:VEVENT
END:VCALENDAR