BEGIN:VCALENDAR
VERSION:2.0
PRODID:dornbirnplus.eu
X-PUBLISHED-TTL:P1W
BEGIN:VEVENT
UID:69ebbc76166b2
DTSTART:20201027T180000Z
SEQUENCE:0
TRANSP:OPAQUE
DTEND:20201027T190000Z
SUMMARY:Herbert Brettl: Diskriminierung Stigmatisierung und Verfolgung der 
 Roma im 20. Jahrhundert
CLASS:PUBLIC
DTSTAMP:20260424T205446Z
END:VEVENT
END:VCALENDAR