BEGIN:VCALENDAR
VERSION:2.0
PRODID:dornbirnplus.eu
X-PUBLISHED-TTL:P1W
BEGIN:VEVENT
UID:69ebbd3c89155
DTSTART:20201020T113000Z
SEQUENCE:0
TRANSP:OPAQUE
DTEND:20201020T130000Z
SUMMARY:Vorarlberger Landestheater präsentiert: Tschick
CLASS:PUBLIC
DTSTAMP:20260424T205804Z
END:VEVENT
END:VCALENDAR