BEGIN:VCALENDAR
VERSION:2.0
PRODID:dornbirnplus.eu
X-PUBLISHED-TTL:P1W
BEGIN:VEVENT
UID:69ebbda2b4797
DTSTART:20201014T180000Z
SEQUENCE:0
TRANSP:OPAQUE
DTEND:20201014T193000Z
SUMMARY:Peter Madsen and CIA play Silent Movies - Vampyr
CLASS:PUBLIC
DTSTAMP:20260424T205946Z
END:VEVENT
END:VCALENDAR