BEGIN:VCALENDAR
VERSION:2.0
PRODID:dornbirnplus.eu
X-PUBLISHED-TTL:P1W
BEGIN:VEVENT
UID:69ebbde6cc1a1
DTSTART:20201021T180000Z
SEQUENCE:0
TRANSP:OPAQUE
DTEND:20201021T193000Z
SUMMARY:Thomas Meyer liest aus \"Wolkenbruchs waghalsiges Stelldichein mit 
 der Spionin\"
CLASS:PUBLIC
DTSTAMP:20260424T210054Z
END:VEVENT
END:VCALENDAR