BEGIN:VCALENDAR
VERSION:2.0
PRODID:dornbirnplus.eu
X-PUBLISHED-TTL:P1W
BEGIN:VEVENT
UID:69ebbd7f2efb0
DTSTART:20201105T190000Z
SEQUENCE:0
TRANSP:OPAQUE
DTEND:20201105T210000Z
SUMMARY:Miles – oder die Pendeluhr von Montreux
CLASS:PUBLIC
DTSTAMP:20260424T205911Z
END:VEVENT
END:VCALENDAR