BEGIN:VCALENDAR
VERSION:2.0
PRODID:dornbirnplus.eu
X-PUBLISHED-TTL:P1W
BEGIN:VEVENT
UID:69ebbd6a8b2e1
DTSTART:20201114T133000Z
SEQUENCE:0
TRANSP:OPAQUE
DTEND:20201114T153000Z
SUMMARY:Kreativatelier: Herbststimmung
CLASS:PUBLIC
DTSTAMP:20260424T205850Z
END:VEVENT
END:VCALENDAR