BEGIN:VCALENDAR
VERSION:2.0
PRODID:dornbirnplus.eu
X-PUBLISHED-TTL:P1W
BEGIN:VEVENT
UID:69ebbd35f221a
DTSTART:20201119T190000Z
SEQUENCE:0
TRANSP:OPAQUE
DTEND:20201119T203000Z
SUMMARY:Kunstankäufe des Landes Vorarlberg 2019
CLASS:PUBLIC
DTSTAMP:20260424T205757Z
END:VEVENT
END:VCALENDAR