BEGIN:VCALENDAR
VERSION:2.0
PRODID:dornbirnplus.eu
X-PUBLISHED-TTL:P1W
BEGIN:VEVENT
UID:69ebbc7bc9276
DTSTART:20201127T180000Z
SEQUENCE:0
TRANSP:OPAQUE
DTEND:20201127T193000Z
SUMMARY:Grand Slam
CLASS:PUBLIC
DTSTAMP:20260424T205451Z
END:VEVENT
END:VCALENDAR