BEGIN:VCALENDAR
VERSION:2.0
PRODID:dornbirnplus.eu
X-PUBLISHED-TTL:P1W
BEGIN:VEVENT
UID:69ebbba94668a
DTSTART:20201111T193000Z
SEQUENCE:0
TRANSP:OPAQUE
DTEND:20201111T203000Z
SUMMARY:Simon Mayer (AT) – Being Moved
CLASS:PUBLIC
DTSTAMP:20260424T205121Z
END:VEVENT
END:VCALENDAR